BEGIN:VCALENDAR
VERSION:2.0
PRODID:-//BCH - ECPv6.15.17.1//NONSGML v1.0//EN
CALSCALE:GREGORIAN
METHOD:PUBLISH
X-WR-CALNAME:BCH
X-ORIGINAL-URL:https://bachataclubhungary.hu
X-WR-CALDESC:Események BCH
REFRESH-INTERVAL;VALUE=DURATION:PT1H
X-Robots-Tag:noindex
X-PUBLISHED-TTL:PT1H
BEGIN:VTIMEZONE
TZID:Europe/Budapest
BEGIN:DAYLIGHT
TZOFFSETFROM:+0100
TZOFFSETTO:+0200
TZNAME:CEST
DTSTART:20250330T010000
END:DAYLIGHT
BEGIN:STANDARD
TZOFFSETFROM:+0200
TZOFFSETTO:+0100
TZNAME:CET
DTSTART:20251026T010000
END:STANDARD
BEGIN:DAYLIGHT
TZOFFSETFROM:+0100
TZOFFSETTO:+0200
TZNAME:CEST
DTSTART:20260329T010000
END:DAYLIGHT
BEGIN:STANDARD
TZOFFSETFROM:+0200
TZOFFSETTO:+0100
TZNAME:CET
DTSTART:20261025T010000
END:STANDARD
BEGIN:DAYLIGHT
TZOFFSETFROM:+0100
TZOFFSETTO:+0200
TZNAME:CEST
DTSTART:20270328T010000
END:DAYLIGHT
BEGIN:STANDARD
TZOFFSETFROM:+0200
TZOFFSETTO:+0100
TZNAME:CET
DTSTART:20271031T010000
END:STANDARD
END:VTIMEZONE
BEGIN:VEVENT
DTSTART;TZID=Europe/Budapest:20260312T180000
DTEND;TZID=Europe/Budapest:20260430T193000
DTSTAMP:20260422T134611
CREATED:20260223T112242Z
LAST-MODIFIED:20260223T112607Z
UID:1922-1773338400-1777577400@bachataclubhungary.hu
SUMMARY:Social Versenyképző Workshopok Brumi&Rita | 8 alkalom | minden csütörtökön | március 12.től
DESCRIPTION:Kedves Social Versenyzők! \n8 Alkalmas Social Bachata Versenyfelkészítő Workshop indul marcius 12.-től Brumival és Ritával! \nLátjuk azt a rengeteg energiát és időt\, amit a fejlődésetekbe fektettek\, és elképesztő az a változás\, amin keresztülmentek! Imádjuk azt a tüzet\, lelkesedést és jókedvet\, amit minden versenyre magatokkal hoztok. \nSzeretnénk nektek segíteni\, hogy még magabiztosabban álljatok a parkettre\, ezért elindítunk egy speciális\, 8 alkalmas (alkalmanként 1\,5 órás) továbbképző sorozatot\, kifejezetten a social bachata versenyzőknek! \nMire fókuszálunk a kurzus alatt?\nA célunk\, hogy ne csak technikailag\, hanem mentálisan is a legjobb formátokat hozzátok. A program során érintjük: \nMusicality: Értsd a zenét\, töltsd meg tartalommal a szüneteket\, és táncold el a hangszereket! \nConnection: A páros tánc lelke. Hogyan maradjon meg a tökéletes összhang nagy nyomás alatt is? \nElmélet & Stratégia: Pontozási szempontok elemzése (mire figyelnek a bírók?)\, fizikai és életmódbeli felkészülés. \nMentális tuning: Hogyan kezeld a versenydrukkot és érkezz magabiztosan a parkettre? \nVerseny szimuláció: Éles helyzetgyakorlatok\, hogy a versenyen már rutinként menjen minden mozdulat. \nCélcsoport: Olyan táncosok\, akik már versenyeznek\, vagy most tervezik elindítani versenyzői karrierjüket. \nEz nem csak egy edzés\, hanem egy közösségi élmény\, ahol együtt fejlődünk és támogatjuk egymást az úton. Tegyük oda magunkat! ???? \nRészletek:\nMárcius 12.-től minden csütörtökön\n⏰ 18:00 – 19:30 \nHelyszín:\nBroadway Dance Center\n1146 Budapest\, Kerepesi út 26.\, I. emelet \nOktatók:\nBrumi & Rita \nREGISZTRÁCIÓ\nhttps://bch.dancepass.app/workshops?id=2129 \nWORKSHOP ÁRAK\n1 óra: 4.000 Ft\n2 óra: 7.500 Ft\n3 óra: 10.500 Ft\n4 óra: 12.000 Ft\n➕ További órák: +2.500 Ft / óra \n★Kontakt★\nbachataclubhungary@gmail.com\n☎️ +36 20 234 5711 (Rita)
URL:https://bachataclubhungary.hu/esemeny/social-versenykepzo-workshopok-brumirita-%f0%9f%8f%86-8-alkalom-minden-csutortokon-marcius-12-tol/
ATTACH;FMTTYPE=image/jpeg:https://bachataclubhungary.hu/wp-content/uploads/2026/02/641354183_122154836054730365_2175715435840020219_n.jpg
END:VEVENT
END:VCALENDAR